BEGIN:VCALENDAR
VERSION:2.0
PRODID:-//Abdul Mageed Educational Trust - ECPv6.15.17//NONSGML v1.0//EN
CALSCALE:GREGORIAN
METHOD:PUBLISH
X-ORIGINAL-URL:https://www.amet.online
X-WR-CALDESC:Events for Abdul Mageed Educational Trust
REFRESH-INTERVAL;VALUE=DURATION:PT1H
X-Robots-Tag:noindex
X-PUBLISHED-TTL:PT1H
BEGIN:VTIMEZONE
TZID:Europe/London
BEGIN:DAYLIGHT
TZOFFSETFROM:+0000
TZOFFSETTO:+0100
TZNAME:BST
DTSTART:20230326T010000
END:DAYLIGHT
BEGIN:STANDARD
TZOFFSETFROM:+0100
TZOFFSETTO:+0000
TZNAME:GMT
DTSTART:20231029T010000
END:STANDARD
BEGIN:DAYLIGHT
TZOFFSETFROM:+0000
TZOFFSETTO:+0100
TZNAME:BST
DTSTART:20240331T010000
END:DAYLIGHT
BEGIN:STANDARD
TZOFFSETFROM:+0100
TZOFFSETTO:+0000
TZNAME:GMT
DTSTART:20241027T010000
END:STANDARD
BEGIN:DAYLIGHT
TZOFFSETFROM:+0000
TZOFFSETTO:+0100
TZNAME:BST
DTSTART:20250330T010000
END:DAYLIGHT
BEGIN:STANDARD
TZOFFSETFROM:+0100
TZOFFSETTO:+0000
TZNAME:GMT
DTSTART:20251026T010000
END:STANDARD
END:VTIMEZONE
BEGIN:VEVENT
DTSTART;TZID=Europe/London:20240603T120000
DTEND;TZID=Europe/London:20240603T140000
DTSTAMP:20260421T072814
CREATED:20240529T092235Z
LAST-MODIFIED:20240529T092235Z
UID:982-1717416000-1717423200@www.amet.online
SUMMARY:Bowel Screening Workshop to Promote Cancer Awareness
DESCRIPTION:The Abdul Mageed Educational Trust\, in collaboration with the BME Health Forum and NHS North West London/North West London ICS\, is proud to announce a Bowel Screening Workshop on Monday\, 3rd June 2024. The event will take place from 12:00 pm to 2:00 pm at the 2nd basement\, Community Space\, Church Street Library\, 67 Church Street\, London\, NW8 8EU. \nThis workshop is part of the “Cancer\, Screen\, Detect\, and Protect” project\, aimed at raising awareness about the importance of early cancer detection. Ahmed Abdo\, a Health Promotion Specialist from the West London Bowel Cancer Screening Centre at Charing Cross Hospital and Imperial College Healthcare NHS Trust\, will lead the session. Ahmed will share vital information on bowel cancer screening\, highlighting the significance of early detection in cancer prevention. \nThis event is open to the public and offers an invaluable opportunity to learn about proactive health measures. Join us to gain crucial knowledge that can help protect you and your loved ones.
URL:https://www.amet.online/event/bowel-screening-workshop-to-promote-cancer-awareness/
LOCATION:Community Space\, 2nd Basement\, Church Street Library\, 67 Church Street\, London\, NW8 8EU
CATEGORIES:Abdul Mageed Educational Trust,BME Health Forum,NHS
ATTACH;FMTTYPE=image/jpeg:https://www.amet.online/wp-content/uploads/2024/05/Abdul-Mageed-Educational-Trust-Event-5-1.jpg
ORGANIZER;CN="Abdul Mageed Educational Trust":MAILTO:naglaa_sadik09@yahoo.co.uk
END:VEVENT
BEGIN:VEVENT
DTSTART;TZID=Europe/London:20240612T120000
DTEND;TZID=Europe/London:20240612T140000
DTSTAMP:20260421T072814
CREATED:20240607T002254Z
LAST-MODIFIED:20240607T003055Z
UID:989-1718193600-1718200800@www.amet.online
SUMMARY:Breast Cancer Screening Workshop
DESCRIPTION:Join us for an essential event on breast cancer screening\, organized by the Abdul Mageed Educational Trust in collaboration with the City of Westminster Healthy Communities Fund. This event is part of the Vibrant and Healthy Community Hub/Peer Support Café series. \nWe are honoured to have Nipunika Silva\, Health Promotion Manager from the West of London Breast Screening Service at Imperial College Healthcare NHS Trust\, as our speaker. She will provide valuable insights into breast cancer screening and its importance. \nThe event will be held at the Ground Floor Hall\, REBEL\, 470 Harrow Road\, London W9 3RU\, from 12 noon to 2 pm on June 12\, 2024. The venue is conveniently accessible via Royal Oak and Westbourne Park tube stations and buses 18 and 36. \nDelicious food and refreshments will be provided. Don’t miss this opportunity to learn and support community health!
URL:https://www.amet.online/event/breast-cancer-screening-workshop/
LOCATION:REBEL\, Ground floor Hall\, REBEL\, 470 Harrow Road\,\, London\, W9 3RU
CATEGORIES:Abdul Mageed Educational Trust,BME Health Forum,NHS,Peer Support Café
ATTACH;FMTTYPE=image/jpeg:https://www.amet.online/wp-content/uploads/2024/06/Abdul-Mageed-Educational-Trust-Event-24.jpg
ORGANIZER;CN="Abdul Mageed Educational Trust":MAILTO:naglaa_sadik09@yahoo.co.uk
END:VEVENT
BEGIN:VEVENT
DTSTART;TZID=Europe/London:20240614T000000
DTEND;TZID=Europe/London:20240614T140000
DTSTAMP:20260421T072814
CREATED:20240610T062609Z
LAST-MODIFIED:20240610T062609Z
UID:996-1718323200-1718373600@www.amet.online
SUMMARY:Join Us for Prostate Cancer Awareness and Support Event with Paul Campbell
DESCRIPTION:Join us for an insightful event on June 14\, 2024\, from 12 noon to 2 pm at the Ground Floor Hall\, REBEL\, 470 Harrow Road\, London W9 3RU. Organized by the Abdul Mageed Educational Trust in collaboration with the City of Westminster Healthy Communities Fund\, this event is part of the Vibrant and Healthy Community Hub/Peer Support Café series. \nThe focus is on prostate cancer\, a crucial topic in the Cancer Screen\, Detect\, and Protect campaign. We are honoured to have Mr. Paul Campbell from Cancer Don’t Let It Win C.I.C. as our speaker\, who will share invaluable knowledge and answer your questions. \nConveniently located near Royal Oak and Westbourne Park tube stations and accessible by buses 18 and 36\, this event promises to be informative and enjoyable. Delicious food and refreshments will be provided. Don’t miss this opportunity to learn and connect with your community!
URL:https://www.amet.online/event/join-us-for-prostate-cancer-awareness-and-support-event-with-paul-campbell/
LOCATION:REBEL\, Ground floor Hall\, REBEL\, 470 Harrow Road\,\, London\, W9 3RU
CATEGORIES:Abdul Mageed Educational Trust,BME Health Forum,NHS,Peer Support Café
ATTACH;FMTTYPE=image/jpeg:https://www.amet.online/wp-content/uploads/2024/06/Abdul-Mageed-Educational-Trust-Event-25.jpg
ORGANIZER;CN="Abdul Mageed Educational Trust":MAILTO:naglaa_sadik09@yahoo.co.uk
END:VEVENT
END:VCALENDAR