BEGIN:VCALENDAR
VERSION:2.0
PRODID:-//Abdul Mageed Educational Trust - ECPv6.15.17//NONSGML v1.0//EN
CALSCALE:GREGORIAN
METHOD:PUBLISH
X-ORIGINAL-URL:https://www.amet.online
X-WR-CALDESC:Events for Abdul Mageed Educational Trust
REFRESH-INTERVAL;VALUE=DURATION:PT1H
X-Robots-Tag:noindex
X-PUBLISHED-TTL:PT1H
BEGIN:VTIMEZONE
TZID:Europe/London
BEGIN:DAYLIGHT
TZOFFSETFROM:+0000
TZOFFSETTO:+0100
TZNAME:BST
DTSTART:20230326T010000
END:DAYLIGHT
BEGIN:STANDARD
TZOFFSETFROM:+0100
TZOFFSETTO:+0000
TZNAME:GMT
DTSTART:20231029T010000
END:STANDARD
BEGIN:DAYLIGHT
TZOFFSETFROM:+0000
TZOFFSETTO:+0100
TZNAME:BST
DTSTART:20240331T010000
END:DAYLIGHT
BEGIN:STANDARD
TZOFFSETFROM:+0100
TZOFFSETTO:+0000
TZNAME:GMT
DTSTART:20241027T010000
END:STANDARD
BEGIN:DAYLIGHT
TZOFFSETFROM:+0000
TZOFFSETTO:+0100
TZNAME:BST
DTSTART:20250330T010000
END:DAYLIGHT
BEGIN:STANDARD
TZOFFSETFROM:+0100
TZOFFSETTO:+0000
TZNAME:GMT
DTSTART:20251026T010000
END:STANDARD
END:VTIMEZONE
BEGIN:VEVENT
DTSTART;TZID=Europe/London:20240708T120000
DTEND;TZID=Europe/London:20240708T140000
DTSTAMP:20260421T054550
CREATED:20240624T175629Z
LAST-MODIFIED:20240624T175629Z
UID:1000-1720440000-1720447200@www.amet.online
SUMMARY:Cervical Cancer Workshop with Dr. Apostolia Galani
DESCRIPTION:Join us on July 8\, 2024\, from 12 noon to 2 pm at the 2nd Basement\, Community Space\, Church Street Library\, 67 Church Street\, London\, NW8 8EU\, for an essential workshop on cervical cancer. \nThis event\, organised by the Abdul Mageed Educational Trust in collaboration with the City of Westminster Healthy Communities Fund\, is part of the Vibrant and Healthy Community Hub/Peer Support Café series and is integral to the Cancer Screen\, Detect\, and Protect campaign. \nWe are honoured to have Dr. Apostolia Galani\, a Clinical Research Fellow at Imperial\, as our speaker. Dr. Galani specialises in innovative approaches to cervical health\, focusing on early diagnosis and treatment of cervical precancerous lesions through metabolic technologies. She is also involved in a systematic review and meta-analysis of adjunctive colposcopy technologies\, aiming to improve the detection of cervical cancer. \nDon’t miss this opportunity to learn from a leading expert and gain valuable cervical cancer prevention and treatment insights.
URL:https://www.amet.online/event/cervical-cancer-workshop-with-dr-apostolia-galani/
LOCATION:Community Space\, 2nd Basement\, Church Street Library\, 67 Church Street\, London\, NW8 8EU
CATEGORIES:Abdul Mageed Educational Trust,BME Health Forum,NHS,Peer Support Café
ATTACH;FMTTYPE=image/jpeg:https://www.amet.online/wp-content/uploads/2024/06/Abdul-Mageed-Educational-Trust-Event-.jpg
ORGANIZER;CN="Abdul Mageed Educational Trust":MAILTO:naglaa_sadik09@yahoo.co.uk
END:VEVENT
END:VCALENDAR