BEGIN:VCALENDAR
VERSION:2.0
PRODID:-//Abdul Mageed Educational Trust - ECPv6.15.17//NONSGML v1.0//EN
CALSCALE:GREGORIAN
METHOD:PUBLISH
X-WR-CALNAME:Abdul Mageed Educational Trust
X-ORIGINAL-URL:https://www.amet.online
X-WR-CALDESC:Events for Abdul Mageed Educational Trust
REFRESH-INTERVAL;VALUE=DURATION:PT1H
X-Robots-Tag:noindex
X-PUBLISHED-TTL:PT1H
BEGIN:VTIMEZONE
TZID:Europe/London
BEGIN:DAYLIGHT
TZOFFSETFROM:+0000
TZOFFSETTO:+0100
TZNAME:BST
DTSTART:20240331T010000
END:DAYLIGHT
BEGIN:STANDARD
TZOFFSETFROM:+0100
TZOFFSETTO:+0000
TZNAME:GMT
DTSTART:20241027T010000
END:STANDARD
BEGIN:DAYLIGHT
TZOFFSETFROM:+0000
TZOFFSETTO:+0100
TZNAME:BST
DTSTART:20250330T010000
END:DAYLIGHT
BEGIN:STANDARD
TZOFFSETFROM:+0100
TZOFFSETTO:+0000
TZNAME:GMT
DTSTART:20251026T010000
END:STANDARD
BEGIN:DAYLIGHT
TZOFFSETFROM:+0000
TZOFFSETTO:+0100
TZNAME:BST
DTSTART:20260329T010000
END:DAYLIGHT
BEGIN:STANDARD
TZOFFSETFROM:+0100
TZOFFSETTO:+0000
TZNAME:GMT
DTSTART:20261025T010000
END:STANDARD
END:VTIMEZONE
BEGIN:VEVENT
DTSTART;TZID=Europe/London:20250903T110000
DTEND;TZID=Europe/London:20250903T140000
DTSTAMP:20260424T165231
CREATED:20250624T210516Z
LAST-MODIFIED:20250624T210516Z
UID:1227-1756897200-1756908000@www.amet.online
SUMMARY:Baking Day – Cook and Eat Peer Support Café
DESCRIPTION:Date: Tuesday\, 9 July 2025 \nTime: 11:00 AM to 2:00 PM \nVenue: Churchill Gardens Residents Hall\, Pimlico\, SW1V 3AL \nChef: Sanaa Zemrani \nKitchen Assistant: Naziha Rafai \nStep into the scent of spice markets with Sanaa and Naziha as they bring the taste of Morocco to Westminster. Tagines\, mint tea and honest conversation make this a session to remember. \nInterpretation available in Arabic\, Amharic and Tigrinya. \nLunch and refreshments provided.
URL:https://www.amet.online/event/baking-day-cook-and-eat-peer-support-cafe/
LOCATION:Churchil Gardens Residents Hall\, Churchill Hall\, Pimlico\,\, London\, SW1V 3AL\,\, United Kingdom
CATEGORIES:Abdul Mageed Educational Trust,City of Westminster
ATTACH;FMTTYPE=image/jpeg:https://www.amet.online/wp-content/uploads/2025/06/Abdul-Mageed-Educational-Trust-46.jpg
ORGANIZER;CN="Abdul Mageed Educational Trust":MAILTO:naglaa_sadik09@yahoo.co.uk
END:VEVENT
BEGIN:VEVENT
DTSTART;TZID=Europe/London:20250917T110000
DTEND;TZID=Europe/London:20250917T140000
DTSTAMP:20260424T165231
CREATED:20250625T080454Z
LAST-MODIFIED:20250625T080454Z
UID:1229-1758106800-1758117600@www.amet.online
SUMMARY:Sudanese Cuisine – Cook and Eat Peer Support Café
DESCRIPTION:Date: Wednesday\, 17 September 2025 \nTime: 11:00 AM to 2:00 PM \nVenue: Churchill Gardens Residents Hall\, Pimlico\, SW1V 3AL \nChef: Nafisa Ahmed \nKitchen Assistant: Hind Ibrahim \nJoin Nafisa and Hind for a heartfelt afternoon exploring Sudanese food and culture. Come for the hearty stews and stay for the shared stories. \nInterpretation available in Arabic\, Amharic and Tigrinya. \nLunch and refreshments provided.
URL:https://www.amet.online/event/sudanese-cuisine-cook-and-eat-peer-support-cafe/
LOCATION:Churchil Gardens Residents Hall\, Churchill Hall\, Pimlico\,\, London\, SW1V 3AL\,\, United Kingdom
CATEGORIES:Abdul Mageed Educational Trust,City of Westminster
ATTACH;FMTTYPE=image/jpeg:https://www.amet.online/wp-content/uploads/2025/06/Abdul-Mageed-Educational-Trust-47.jpg
ORGANIZER;CN="Abdul Mageed Educational Trust":MAILTO:naglaa_sadik09@yahoo.co.uk
END:VEVENT
END:VCALENDAR