BEGIN:VCALENDAR
VERSION:2.0
PRODID:-//Abdul Mageed Educational Trust - ECPv6.15.17//NONSGML v1.0//EN
CALSCALE:GREGORIAN
METHOD:PUBLISH
X-WR-CALNAME:Abdul Mageed Educational Trust
X-ORIGINAL-URL:https://www.amet.online
X-WR-CALDESC:Events for Abdul Mageed Educational Trust
REFRESH-INTERVAL;VALUE=DURATION:PT1H
X-Robots-Tag:noindex
X-PUBLISHED-TTL:PT1H
BEGIN:VTIMEZONE
TZID:Europe/London
BEGIN:DAYLIGHT
TZOFFSETFROM:+0000
TZOFFSETTO:+0100
TZNAME:BST
DTSTART:20250330T010000
END:DAYLIGHT
BEGIN:STANDARD
TZOFFSETFROM:+0100
TZOFFSETTO:+0000
TZNAME:GMT
DTSTART:20251026T010000
END:STANDARD
BEGIN:DAYLIGHT
TZOFFSETFROM:+0000
TZOFFSETTO:+0100
TZNAME:BST
DTSTART:20260329T010000
END:DAYLIGHT
BEGIN:STANDARD
TZOFFSETFROM:+0100
TZOFFSETTO:+0000
TZNAME:GMT
DTSTART:20261025T010000
END:STANDARD
BEGIN:DAYLIGHT
TZOFFSETFROM:+0000
TZOFFSETTO:+0100
TZNAME:BST
DTSTART:20270328T010000
END:DAYLIGHT
BEGIN:STANDARD
TZOFFSETFROM:+0100
TZOFFSETTO:+0000
TZNAME:GMT
DTSTART:20271031T010000
END:STANDARD
END:VTIMEZONE
BEGIN:VEVENT
DTSTART;TZID=Europe/London:20260112T120000
DTEND;TZID=Europe/London:20260112T150000
DTSTAMP:20260424T105534
CREATED:20250625T101405Z
LAST-MODIFIED:20251224T143419Z
UID:1251-1768219200-1768230000@www.amet.online
SUMMARY:Trinidad Cuisine – Cook and Eat Peer Support Café
DESCRIPTION:Date: Monday\, 12th January 2026 \nTime: 11:00 AM to 2:00 PM \nVenue: Churchill Gardens Residents Hall\, Pimlico\, SW1V 3AL \nChef: Tara Varma \nKitchen Assistant: Salwa Hassan \nCelebrate the end of the year with festive Trinidad cooking. Tara and Salwa bring Caribbean warmth and joy to the December café. \nInterpretation available in Arabic\, Amharic and Tigrinya. \nLunch and refreshments provided.
URL:https://www.amet.online/event/trinidad-cuisine-cook-and-eat-peer-support-cafe/
LOCATION:Churchill Gardens Youth Club\, Churchill Gardens Road\, London\, England\, SW1V 3AL\,\, United Kingdom
CATEGORIES:Abdul Mageed Educational Trust,City of Westminster
ATTACH;FMTTYPE=image/jpeg:https://www.amet.online/wp-content/uploads/2025/06/Abdul-Mageed-Educational-Trust-54a.jpg
ORGANIZER;CN="Abdul Mageed Educational Trust":MAILTO:naglaa_sadik09@yahoo.co.uk
END:VEVENT
BEGIN:VEVENT
DTSTART;TZID=Europe/London:20260126T120000
DTEND;TZID=Europe/London:20260126T150000
DTSTAMP:20260424T105534
CREATED:20250625T102213Z
LAST-MODIFIED:20251224T143529Z
UID:1256-1769428800-1769439600@www.amet.online
SUMMARY:Eritrean Cuisine – Cook and Eat Peer Support Café
DESCRIPTION:Date: Monday\,267 January 2026 \nTime: 11:00 AM to 2:00 PM \nVenue: Churchill Gardens Residents Hall\, Pimlico\, SW1V 3AL \nChef: Fatima Suliman \nKitchen Assistant: Amona Osman \nStart the new year with comfort food and community. Fatima and Amona offer traditional Eritrean dishes and a safe space to reconnect and reflect. \nInterpretation available in Arabic\, Amharic and Tigrinya. \nLunch and refreshments provided.
URL:https://www.amet.online/event/eritrean-cuisine-cook-and-eat-peer-support-cafe/
LOCATION:Churchill Gardens Youth Club\, Churchill Gardens Road\, London\, England\, SW1V 3AL\,\, United Kingdom
CATEGORIES:Abdul Mageed Educational Trust,City of Westminster
ATTACH;FMTTYPE=image/jpeg:https://www.amet.online/wp-content/uploads/2025/06/Abdul-Mageed-Educational-Trust-55.jpg
ORGANIZER;CN="Abdul Mageed Educational Trust":MAILTO:naglaa_sadik09@yahoo.co.uk
END:VEVENT
END:VCALENDAR