BEGIN:VCALENDAR
VERSION:2.0
PRODID:-//Abdul Mageed Educational Trust - ECPv6.15.17//NONSGML v1.0//EN
CALSCALE:GREGORIAN
METHOD:PUBLISH
X-WR-CALNAME:Abdul Mageed Educational Trust
X-ORIGINAL-URL:https://www.amet.online
X-WR-CALDESC:Events for Abdul Mageed Educational Trust
REFRESH-INTERVAL;VALUE=DURATION:PT1H
X-Robots-Tag:noindex
X-PUBLISHED-TTL:PT1H
BEGIN:VTIMEZONE
TZID:Europe/London
BEGIN:DAYLIGHT
TZOFFSETFROM:+0000
TZOFFSETTO:+0100
TZNAME:BST
DTSTART:20240331T010000
END:DAYLIGHT
BEGIN:STANDARD
TZOFFSETFROM:+0100
TZOFFSETTO:+0000
TZNAME:GMT
DTSTART:20241027T010000
END:STANDARD
BEGIN:DAYLIGHT
TZOFFSETFROM:+0000
TZOFFSETTO:+0100
TZNAME:BST
DTSTART:20250330T010000
END:DAYLIGHT
BEGIN:STANDARD
TZOFFSETFROM:+0100
TZOFFSETTO:+0000
TZNAME:GMT
DTSTART:20251026T010000
END:STANDARD
BEGIN:DAYLIGHT
TZOFFSETFROM:+0000
TZOFFSETTO:+0100
TZNAME:BST
DTSTART:20260329T010000
END:DAYLIGHT
BEGIN:STANDARD
TZOFFSETFROM:+0100
TZOFFSETTO:+0000
TZNAME:GMT
DTSTART:20261025T010000
END:STANDARD
END:VTIMEZONE
BEGIN:VEVENT
DTSTART;TZID=Europe/London:20251001T110000
DTEND;TZID=Europe/London:20251001T140000
DTSTAMP:20260424T171517
CREATED:20250625T081706Z
LAST-MODIFIED:20250625T081706Z
UID:1232-1759316400-1759327200@www.amet.online
SUMMARY:Kenyan Cuisine – Cook and Eat Peer Support Café
DESCRIPTION:Date: Wednesday\, 1 October 2025 \nTime: 11:00 AM to 2:00 PM \nVenue: Churchill Gardens Residents Hall\, Pimlico\, SW1V 3AL \nChef: Kanzah Sheikh \nKitchen Assistant: Rowshanara Begum \nKanzah and Rowshanara bring East African warmth to our café with delicious dishes and heartfelt conversation. This is a celebration of community and culture. \nInterpretation available in Arabic\, Amharic and Tigrinya. \nLunch and refreshments provided.
URL:https://www.amet.online/event/kenyan-cuisine-cook-and-eat-peer-support-cafe/
LOCATION:Churchil Gardens Residents Hall\, Churchill Hall\, Pimlico\,\, London\, SW1V 3AL\,\, United Kingdom
CATEGORIES:Abdul Mageed Educational Trust,City of Westminster
ATTACH;FMTTYPE=image/jpeg:https://www.amet.online/wp-content/uploads/2025/06/Abdul-Mageed-Educational-Trust-48.jpg
ORGANIZER;CN="Abdul Mageed Educational Trust":MAILTO:naglaa_sadik09@yahoo.co.uk
END:VEVENT
END:VCALENDAR