BEGIN:VCALENDAR
VERSION:2.0
PRODID:-//Abdul Mageed Educational Trust - ECPv6.15.17//NONSGML v1.0//EN
CALSCALE:GREGORIAN
METHOD:PUBLISH
X-ORIGINAL-URL:https://www.amet.online
X-WR-CALDESC:Events for Abdul Mageed Educational Trust
REFRESH-INTERVAL;VALUE=DURATION:PT1H
X-Robots-Tag:noindex
X-PUBLISHED-TTL:PT1H
BEGIN:VTIMEZONE
TZID:Europe/London
BEGIN:DAYLIGHT
TZOFFSETFROM:+0000
TZOFFSETTO:+0100
TZNAME:BST
DTSTART:20240331T010000
END:DAYLIGHT
BEGIN:STANDARD
TZOFFSETFROM:+0100
TZOFFSETTO:+0000
TZNAME:GMT
DTSTART:20241027T010000
END:STANDARD
BEGIN:DAYLIGHT
TZOFFSETFROM:+0000
TZOFFSETTO:+0100
TZNAME:BST
DTSTART:20250330T010000
END:DAYLIGHT
BEGIN:STANDARD
TZOFFSETFROM:+0100
TZOFFSETTO:+0000
TZNAME:GMT
DTSTART:20251026T010000
END:STANDARD
BEGIN:DAYLIGHT
TZOFFSETFROM:+0000
TZOFFSETTO:+0100
TZNAME:BST
DTSTART:20260329T010000
END:DAYLIGHT
BEGIN:STANDARD
TZOFFSETFROM:+0100
TZOFFSETTO:+0000
TZNAME:GMT
DTSTART:20261025T010000
END:STANDARD
END:VTIMEZONE
BEGIN:VEVENT
DTSTART;TZID=Europe/London:20250523T140000
DTEND;TZID=Europe/London:20250523T160000
DTSTAMP:20260418T012117
CREATED:20250512T194435Z
LAST-MODIFIED:20250512T195430Z
UID:1182-1748008800-1748016000@www.amet.online
SUMMARY:Co-Design Workshop on the Refugee Integration Experience
DESCRIPTION:Thursday 23 May 2025 | 2:00 PM – 4:00 PM Imperial College London\, South Kensington Campus \nJoin us for a friendly and welcoming co-design workshop exploring the refugee integration experience in the UK. This is a safe space where refugees\, asylum seekers\, and migrants can come together to share their stories\, reflect on their journey\, and help shape future support services. \nLed in partnership with WHEAT Mentor Support Trust and Imperial College London\, this session invites participants to openly discuss their experiences of settling in the UK—what helped\, what made it harder\, and how services can improve for others in the future. \nWho can join:Refugees\, asylum seekers\, and migrants aged 18+ who have lived in the UK for at least 12 months. No special skills needed—just a willingness to share. \nWhy attend:✅ Connect with others who’ve had similar experiences✅ Reflect on your own story✅ Share ideas for better support✅ Help shape future services for new arrivals \nLocation:Imperial College LondonImperial College Road\, South KensingtonLondon SW7 2DB
URL:https://www.amet.online/event/co-design-workshop-on-the-refugee-integration-experience/
LOCATION:Imperial College London\, Imperial College Road\, South Kensington\, London\, SW7 2DB\, United Kingdom
CATEGORIES:Abdul Mageed Educational Trust,Imperial College London,WHEAT Mentor Support Trust
ATTACH;FMTTYPE=image/png:https://www.amet.online/wp-content/uploads/2025/05/Abdul-Mageed-Educational-Trust-23.05.2025.png
ORGANIZER;CN="Abdul Mageed Educational Trust":MAILTO:naglaa_sadik09@yahoo.co.uk
END:VEVENT
BEGIN:VEVENT
DTSTART;TZID=Europe/London:20250528T110000
DTEND;TZID=Europe/London:20250528T130000
DTSTAMP:20260418T012117
CREATED:20250514T142718Z
LAST-MODIFIED:20250514T144657Z
UID:1189-1748430000-1748437200@www.amet.online
SUMMARY:Co-Design Workshop on the Refugee Integration Experience
DESCRIPTION:Tuesday 28 May 2025 | 11:00 AM – 1:00 PM Imperial College London\, South Kensington Campus \nAnother chance to join our co-design conversation on the refugee and migrant journey in the UK. Whether this is your first time or you’re returning\, your voice matters. This welcoming session will focus on shared experiences\, practical support ideas\, and positive ways to improve the integration process.
URL:https://www.amet.online/event/co-design-workshop-on-the-refugee-integration-experience-2/
LOCATION:Imperial College London\, Imperial College Road\, South Kensington\, London\, SW7 2DB\, United Kingdom
CATEGORIES:Abdul Mageed Educational Trust,Imperial College London,WHEAT Mentor Support Trust
ATTACH;FMTTYPE=image/png:https://www.amet.online/wp-content/uploads/2025/05/Abdul-Mageed-Educational-Trust-28.05.2025.png
ORGANIZER;CN="Abdul Mageed Educational Trust":MAILTO:naglaa_sadik09@yahoo.co.uk
END:VEVENT
END:VCALENDAR